BEGIN:VCALENDAR
VERSION:2.0
PRODID:icalendar-ruby
CALSCALE:GREGORIAN
METHOD:PUBLISH
BEGIN:VEVENT
DTSTAMP:20260422T100952Z
UID:31349d09-02d1-4810-bfc6-9054656b4d9f
DTSTART:20261128T080000
DTEND:20261129T120000
DESCRIPTION:<p><span style="color: rgb(0\, 0\, 0)\;">Muddy Princess is an o
 utdoor 5km obstacle mud run for women – WOMEN ONLY!</span></p><p><span s
 tyle="color: rgb(0\, 0\, 0)\;">Our event is for Princesses of all sizes\, 
 ages & fitness levels. We don’t focus on fastest times or competitions\,
  we focus on fun so be prepared to run\, walk\, crawl\, climb\, slide\, ba
 lance & laugh your way along our course for an amazing “girls dirty day 
 out!”</span></p><p><span style="color: rgb(0\, 0\, 0)\;">Minimum age is 
 6 years old. 13 years and younger require a fully paid and registered adul
 t (over the age of 18) to accompany them. 14+ years do not require an acco
 mpanying adult but an indemnity form must be signed by a parent or legal g
 uardian at registration on the day.</span></p>
LOCATION:R304\, Stellenbosch\, Cape Town\, Western Cape
SUMMARY:Muddy Princess Stellenbosch WP 2026
URL;VALUE=URI:https://muddyprincess.howler.co.za/muddyprincessstellies2026
END:VEVENT
END:VCALENDAR
