BEGIN:VCALENDAR
VERSION:2.0
PRODID:icalendar-ruby
CALSCALE:GREGORIAN
METHOD:PUBLISH
BEGIN:VEVENT
DTSTAMP:20260422T101211Z
UID:3071a18c-ee24-4754-8e23-a3e450909be8
DTSTART:20261114T080000
DTEND:20261115T130000
DESCRIPTION:<p><span style="color: rgb(5\, 0\, 0)\;">Muddy Princess is an o
 utdoor 5km obstacle mud run for women – WOMEN ONLY!</span></p><p><span s
 tyle="color: rgb(5\, 0\, 0)\;">Our event is for Princesses of all sizes\, 
 ages & fitness levels. We don’t focus on fastest times or competitions\,
  we focus on fun so be prepared to run\, walk\, crawl\, climb\, slide\, ba
 lance & laugh your way along our course for an amazing “girls dirty day 
 out!”</span></p><p><span style="color: rgb(5\, 0\, 0)\;">Minimum age is 
 6 years old. 13 years and younger require a fully paid and registered adul
 t (over the age of 18) to accompany them. 14+ years do not require an acco
 mpanying adult but an indemnity form must be signed by a parent or legal g
 uardian at registration on the day.</span></p><p><span style="color: rgb(5
 \, 0\, 0)\;">Saturday 14 November 08:00am - 13:00pm</span></p><p><span sty
 le="color: rgb(5\, 0\, 0)\;">Sunday 15 November 08:00am - 13:00pm</span></
 p>
LOCATION:R515 Rhino Park\, Pretoria\, 1001
SUMMARY:Muddy Princess Pretoria\, GP 2026
URL;VALUE=URI:https://muddyprincess.howler.co.za/muddyprincessPretoria26
END:VEVENT
END:VCALENDAR
