BEGIN:VCALENDAR
VERSION:2.0
PRODID:icalendar-ruby
CALSCALE:GREGORIAN
METHOD:PUBLISH
BEGIN:VEVENT
DTSTAMP:20260422T071458Z
UID:a931bffc-40be-4157-897d-830aff9f3ccb
DTSTART:20260913T080000
DTEND:20260913T120000
DESCRIPTION:<p><span style="color: rgb(19\, 1\, 1)\;">Muddy Princess is an 
 outdoor 5km obstacle mud run for women – WOMEN ONLY!</span></p><p><span 
 style="color: rgb(19\, 1\, 1)\;">Our event is for Princesses of all sizes\
 , ages & fitness levels. We don’t focus on fastest times or competitions
 \, we focus on fun so be prepared to run\, walk\, crawl\, climb\, slide\, 
 balance & laugh your way along our course for an amazing “girls dirty da
 y out!”</span></p><p><span style="color: rgb(19\, 1\, 1)\;">Minimum age 
 is 6 years old. 13 years and younger require a fully paid and registered a
 dult (over the age of 18) to accompany them. 14+ years do not require an a
 ccompanying adult but an indemnity form must be signed by a parent or lega
 l guardian at registration on the day.</span></p>
LOCATION:110 Stockville Road Pinetown\, Pinetown\, KwaZulu-Natal\, 3600
SUMMARY:Muddy Princess Pinetown\, KZN 2026
URL;VALUE=URI:https://muddyprincess.howler.co.za/muddyprincessPinetown26
END:VEVENT
END:VCALENDAR
